BEGIN:VCALENDAR
VERSION:2.0
PRODID:-//CPN Worldwide - ECPv6.15.20//NONSGML v1.0//EN
CALSCALE:GREGORIAN
METHOD:PUBLISH
X-WR-CALNAME:CPN Worldwide
X-ORIGINAL-URL:https://cpnworldwide.com
X-WR-CALDESC:Events for CPN Worldwide
REFRESH-INTERVAL;VALUE=DURATION:PT1H
X-Robots-Tag:noindex
X-PUBLISHED-TTL:PT1H
BEGIN:VTIMEZONE
TZID:America/New_York
BEGIN:DAYLIGHT
TZOFFSETFROM:-0500
TZOFFSETTO:-0400
TZNAME:EDT
DTSTART:20240310T070000
END:DAYLIGHT
BEGIN:STANDARD
TZOFFSETFROM:-0400
TZOFFSETTO:-0500
TZNAME:EST
DTSTART:20241103T060000
END:STANDARD
BEGIN:DAYLIGHT
TZOFFSETFROM:-0500
TZOFFSETTO:-0400
TZNAME:EDT
DTSTART:20250309T070000
END:DAYLIGHT
BEGIN:STANDARD
TZOFFSETFROM:-0400
TZOFFSETTO:-0500
TZNAME:EST
DTSTART:20251102T060000
END:STANDARD
BEGIN:DAYLIGHT
TZOFFSETFROM:-0500
TZOFFSETTO:-0400
TZNAME:EDT
DTSTART:20260308T070000
END:DAYLIGHT
BEGIN:STANDARD
TZOFFSETFROM:-0400
TZOFFSETTO:-0500
TZNAME:EST
DTSTART:20261101T060000
END:STANDARD
BEGIN:DAYLIGHT
TZOFFSETFROM:-0500
TZOFFSETTO:-0400
TZNAME:EDT
DTSTART:20270314T070000
END:DAYLIGHT
BEGIN:STANDARD
TZOFFSETFROM:-0400
TZOFFSETTO:-0500
TZNAME:EST
DTSTART:20271107T060000
END:STANDARD
END:VTIMEZONE
BEGIN:VEVENT
DTSTART;TZID=America/New_York:20260616T180000
DTEND;TZID=America/New_York:20260616T200000
DTSTAMP:20260421T170250
CREATED:20260313T181329Z
LAST-MODIFIED:20260410T180259Z
UID:3207-1781632800-1781640000@cpnworldwide.com
SUMMARY:June Networking Social
DESCRIPTION:
URL:https://cpnworldwide.com/event/june-networking-social-2/
LOCATION:Buckhead Club 3344 Peachtree St NE #2600\, Atlanta\, GA 30326\, United States\, Buckhead Club 3344 Peachtree St NE #2600\, Atlanta\, GA 30326\, United States
CATEGORIES:Event Type 1
ATTACH;FMTTYPE=image/png:https://cpnworldwide.com/wp-content/uploads/2026/03/June-Networking-Social.png
END:VEVENT
BEGIN:VEVENT
DTSTART;VALUE=DATE:20260531
DTEND;VALUE=DATE:20260702
DTSTAMP:20260421T170250
CREATED:20251125T182049Z
LAST-MODIFIED:20260305T123032Z
UID:2965-1780185600-1782950399@cpnworldwide.com
SUMMARY:Mentor a Child
DESCRIPTION:
URL:https://cpnworldwide.com/event/mentor-a-child/
LOCATION:City of Refuge\, 1300 Joseph E. Boone Blvd NW\, Atlanta\, GA 30314
CATEGORIES:Event Type 1
ATTACH;FMTTYPE=image/png:https://cpnworldwide.com/wp-content/uploads/2025/11/Untitled-design.png
END:VEVENT
BEGIN:VEVENT
DTSTART;TZID=America/New_York:20260519T180000
DTEND;TZID=America/New_York:20260519T200000
DTSTAMP:20260421T170250
CREATED:20260323T123033Z
LAST-MODIFIED:20260410T180503Z
UID:3224-1779213600-1779220800@cpnworldwide.com
SUMMARY:May Networking Social
DESCRIPTION:
URL:https://cpnworldwide.com/event/may-networking-social/
LOCATION:Buckhead Club 3344 Peachtree St NE #2600\, Atlanta\, GA 30326\, United States\, Buckhead Club 3344 Peachtree St NE #2600\, Atlanta\, GA 30326\, United States
CATEGORIES:Event Type 1
ATTACH;FMTTYPE=image/png:https://cpnworldwide.com/wp-content/uploads/2026/03/Copy-of-April-Networking-Social.png
END:VEVENT
BEGIN:VEVENT
DTSTART;TZID=America/New_York:20260502T140000
DTEND;TZID=America/New_York:20260502T150000
DTSTAMP:20260421T170250
CREATED:20260313T114345Z
LAST-MODIFIED:20260410T183225Z
UID:3194-1777730400-1777734000@cpnworldwide.com
SUMMARY:Christian Singles Social
DESCRIPTION:
URL:https://cpnworldwide.com/event/christian-singles-social/
LOCATION:Punch Bowl Social\, Punch Bowl Social\, 875 Battery Ave SE Ste 720\, Atlanta\, GA 30339
CATEGORIES:Event Type 1
ATTACH;FMTTYPE=image/png:https://cpnworldwide.com/wp-content/uploads/2026/03/Christian-Singles-SOcial.png
END:VEVENT
BEGIN:VEVENT
DTSTART;TZID=America/New_York:20260423T153000
DTEND;TZID=America/New_York:20260423T180000
DTSTAMP:20260421T170250
CREATED:20250501T105939Z
LAST-MODIFIED:20260410T181927Z
UID:1746-1776958200-1776967200@cpnworldwide.com
SUMMARY:Volunteer Day: Games\, Grilling & Gardening
DESCRIPTION:
URL:https://cpnworldwide.com/event/volunteer-day-games-grilling-gardening/
LOCATION:748 Gary Rd NW\, Atlanta GA 30318\, 748 Gary Rd NW\, Atlanta GA 30318
ATTACH;FMTTYPE=image/png:https://cpnworldwide.com/wp-content/uploads/2025/05/Grow-Together-Community-Garden-Cookout-1.png
END:VEVENT
BEGIN:VEVENT
DTSTART;TZID=America/New_York:20260422T110000
DTEND;TZID=America/New_York:20260422T113000
DTSTAMP:20260421T170250
CREATED:20260313T141621Z
LAST-MODIFIED:20260410T181622Z
UID:3204-1776855600-1776857400@cpnworldwide.com
SUMMARY:Mentor information session
DESCRIPTION:
URL:https://cpnworldwide.com/event/mentor-information-session/
LOCATION:Online\, Online
CATEGORIES:Event Type 1
ATTACH;FMTTYPE=image/png:https://cpnworldwide.com/wp-content/uploads/2026/03/Mentor-Training-1.png
END:VEVENT
BEGIN:VEVENT
DTSTART;TZID=America/New_York:20260421T180000
DTEND;TZID=America/New_York:20260421T200000
DTSTAMP:20260421T170250
CREATED:20260308T134007Z
LAST-MODIFIED:20260410T180725Z
UID:3183-1776794400-1776801600@cpnworldwide.com
SUMMARY:April Networking Social
DESCRIPTION:
URL:https://cpnworldwide.com/event/april-networking-social-2/
LOCATION:Buckhead Club 3344 Peachtree St NE #2600\, Atlanta\, GA 30326\, United States\, Buckhead Club 3344 Peachtree St NE #2600\, Atlanta\, GA 30326\, United States
CATEGORIES:Event Type 1
ATTACH;FMTTYPE=image/png:https://cpnworldwide.com/wp-content/uploads/2026/03/April-Networking-Social.png
END:VEVENT
BEGIN:VEVENT
DTSTART;TZID=America/New_York:20260317T180000
DTEND;TZID=America/New_York:20260317T200000
DTSTAMP:20260421T170250
CREATED:20251127T181359Z
LAST-MODIFIED:20260311T171711Z
UID:2979-1773770400-1773777600@cpnworldwide.com
SUMMARY:March Networking Social
DESCRIPTION:
URL:https://cpnworldwide.com/event/march-networking-social-2/
LOCATION:Buckhead Club 3344 Peachtree St NE #2600\, Atlanta\, GA 30326\, United States\, Buckhead Club 3344 Peachtree St NE #2600\, Atlanta\, GA 30326\, United States
CATEGORIES:Event Type 1
ATTACH;FMTTYPE=image/png:https://cpnworldwide.com/wp-content/uploads/2025/11/k.png
END:VEVENT
BEGIN:VEVENT
DTSTART;TZID=America/New_York:20260217T180000
DTEND;TZID=America/New_York:20260217T200000
DTSTAMP:20260421T170250
CREATED:20251230T204843Z
LAST-MODIFIED:20260119T154730Z
UID:3003-1771351200-1771358400@cpnworldwide.com
SUMMARY:February Networking Social: Philanthropy in Action
DESCRIPTION:
URL:https://cpnworldwide.com/event/february-networking-social/
LOCATION:Buckhead Club 3344 Peachtree St NE #2600\, Atlanta\, GA 30326\, United States\, Buckhead Club 3344 Peachtree St NE #2600\, Atlanta\, GA 30326\, United States
CATEGORIES:Event Type 1
ATTACH;FMTTYPE=image/png:https://cpnworldwide.com/wp-content/uploads/2025/12/Faith-Fellowship-Night.png
END:VEVENT
BEGIN:VEVENT
DTSTART;TZID=America/New_York:20260120T180000
DTEND;TZID=America/New_York:20260120T200000
DTSTAMP:20260421T170250
CREATED:20251015T175928Z
LAST-MODIFIED:20251230T210122Z
UID:2811-1768932000-1768939200@cpnworldwide.com
SUMMARY:January Networking Social
DESCRIPTION:
URL:https://cpnworldwide.com/event/january-networking-social-2/
LOCATION:Buckhead Club 3344 Peachtree St NE #2600\, Atlanta\, GA 30326\, United States\, Buckhead Club 3344 Peachtree St NE #2600\, Atlanta\, GA 30326\, United States
CATEGORIES:Event Type 1
ATTACH;FMTTYPE=image/png:https://cpnworldwide.com/wp-content/uploads/2025/10/Copy-of-Copy-of-1.png
END:VEVENT
BEGIN:VEVENT
DTSTART;TZID=America/New_York:20251225T120000
DTEND;TZID=America/New_York:20260125T140000
DTSTAMP:20260421T170250
CREATED:20251118T071741Z
LAST-MODIFIED:20251214T192005Z
UID:2940-1766664000-1769349600@cpnworldwide.com
SUMMARY:Sponsor A Child This Christmas
DESCRIPTION:
URL:https://cpnworldwide.com/event/sponsor-a-child-this-christmas/
LOCATION:From everywhere in the world\, From Everywhere in The World
CATEGORIES:Event Type 1
ATTACH;FMTTYPE=image/png:https://cpnworldwide.com/wp-content/uploads/2025/11/Copy-of-volunteers-1.png
END:VEVENT
BEGIN:VEVENT
DTSTART;TZID=America/New_York:20251205T120000
DTEND;TZID=America/New_York:20251205T140000
DTSTAMP:20260421T170250
CREATED:20251010T180328Z
LAST-MODIFIED:20251201T183037Z
UID:2738-1764936000-1764943200@cpnworldwide.com
SUMMARY:Volunteer: Christmas Gift Wrapping For Hope
DESCRIPTION:
URL:https://cpnworldwide.com/event/volunteer-christmas-gift-wrapping-for-hope/
LOCATION:City of Refuge\, 1300 Joseph E. Boone Blvd NW\, Atlanta\, GA 30314
CATEGORIES:Event Type 1
ATTACH;FMTTYPE=image/png:https://cpnworldwide.com/wp-content/uploads/2025/10/Copy-of-volunteers-1.png
END:VEVENT
BEGIN:VEVENT
DTSTART;TZID=America/New_York:20251121T113000
DTEND;TZID=America/New_York:20251121T130000
DTSTAMP:20260421T170250
CREATED:20251009T161413Z
LAST-MODIFIED:20251010T180931Z
UID:2735-1763724600-1763730000@cpnworldwide.com
SUMMARY:Thanksgiving Volunteer Day
DESCRIPTION:
URL:https://cpnworldwide.com/event/thanksgiving-volunteer-day/
LOCATION:City of Refuge\, 1300 Joseph E. Boone Blvd NW\, Atlanta\, GA 30314
CATEGORIES:Event Type 1
ATTACH;FMTTYPE=image/png:https://cpnworldwide.com/wp-content/uploads/2025/10/volunteers.png
END:VEVENT
BEGIN:VEVENT
DTSTART;TZID=America/New_York:20251111T180000
DTEND;TZID=America/New_York:20251111T200000
DTSTAMP:20260421T170250
CREATED:20250813T200818Z
LAST-MODIFIED:20251103T171946Z
UID:2501-1762884000-1762891200@cpnworldwide.com
SUMMARY:Trip to Mexico Giveaway
DESCRIPTION:
URL:https://cpnworldwide.com/event/trip-to-mexico-giveaway/
LOCATION:Mexico\, Mexico
CATEGORIES:Event Type 1
ATTACH;FMTTYPE=image/png:https://cpnworldwide.com/wp-content/uploads/2025/08/Untitled-design.png
END:VEVENT
BEGIN:VEVENT
DTSTART;TZID=America/New_York:20251111T180000
DTEND;TZID=America/New_York:20251111T200000
DTSTAMP:20260421T170250
CREATED:20250411T210709Z
LAST-MODIFIED:20251107T154309Z
UID:1585-1762884000-1762891200@cpnworldwide.com
SUMMARY:November Networking Social
DESCRIPTION:
URL:https://cpnworldwide.com/event/november-networking-social/
LOCATION:Buckhead Club 3344 Peachtree St NE #2600\, Atlanta\, GA 30326\, United States\, Buckhead Club 3344 Peachtree St NE #2600\, Atlanta\, GA 30326\, United States
CATEGORIES:Event Type 1
ATTACH;FMTTYPE=image/png:https://cpnworldwide.com/wp-content/uploads/2025/04/8.png
END:VEVENT
BEGIN:VEVENT
DTSTART;TZID=America/New_York:20251104T120000
DTEND;TZID=America/New_York:20251104T130000
DTSTAMP:20260421T170250
CREATED:20250910T121446Z
LAST-MODIFIED:20251007T142208Z
UID:2627-1762257600-1762261200@cpnworldwide.com
SUMMARY:Mastermind Group
DESCRIPTION:
URL:https://cpnworldwide.com/event/mastermind-group-6/
LOCATION:ZOOM\, ZOOM
CATEGORIES:Event Type 1
ATTACH;FMTTYPE=image/png:https://cpnworldwide.com/wp-content/uploads/2025/03/2-1.png
END:VEVENT
BEGIN:VEVENT
DTSTART;TZID=America/New_York:20251018T180000
DTEND;TZID=America/New_York:20251018T203000
DTSTAMP:20260421T170250
CREATED:20250401T180523Z
LAST-MODIFIED:20251009T102022Z
UID:1468-1760810400-1760819400@cpnworldwide.com
SUMMARY:SINGLES DINNER: A Night of Faith & Fellowship
DESCRIPTION:
URL:https://cpnworldwide.com/event/singles-dinner-a-night-of-faith-fellowship/
LOCATION:Rays at Killer Creek\, 1700 Mansell Rd\, Alpharetta\, GA 30009
CATEGORIES:Event Type 1
ATTACH;FMTTYPE=image/png:https://cpnworldwide.com/wp-content/uploads/2025/04/A-Night-of-Faith-Fellowship-4.png
END:VEVENT
BEGIN:VEVENT
DTSTART;TZID=America/New_York:20251014T180000
DTEND;TZID=America/New_York:20251014T200000
DTSTAMP:20260421T170250
CREATED:20250411T210234Z
LAST-MODIFIED:20250908T111040Z
UID:1584-1760464800-1760472000@cpnworldwide.com
SUMMARY:October Networking Social
DESCRIPTION:
URL:https://cpnworldwide.com/event/october-networking-social-2/
LOCATION:Buckhead Club 3344 Peachtree St NE #2600\, Atlanta\, GA 30326\, United States\, Buckhead Club 3344 Peachtree St NE #2600\, Atlanta\, GA 30326\, United States
CATEGORIES:Event Type 1
ATTACH;FMTTYPE=image/png:https://cpnworldwide.com/wp-content/uploads/2025/04/7.png
END:VEVENT
BEGIN:VEVENT
DTSTART;TZID=America/New_York:20251007T120000
DTEND;TZID=America/New_York:20251007T130000
DTSTAMP:20260421T170250
CREATED:20250328T223759Z
LAST-MODIFIED:20250910T121034Z
UID:1464-1759838400-1759842000@cpnworldwide.com
SUMMARY:Mastermind Group
DESCRIPTION:
URL:https://cpnworldwide.com/event/mastermind-group-4/
LOCATION:ZOOM\, ZOOM
CATEGORIES:Event Type 1
ATTACH;FMTTYPE=image/png:https://cpnworldwide.com/wp-content/uploads/2025/03/1-1.png
END:VEVENT
BEGIN:VEVENT
DTSTART;TZID=America/New_York:20250916T180000
DTEND;TZID=America/New_York:20250916T200000
DTSTAMP:20260421T170250
CREATED:20250411T205843Z
LAST-MODIFIED:20250915T164044Z
UID:1583-1758045600-1758052800@cpnworldwide.com
SUMMARY:September Networking Social
DESCRIPTION:
URL:https://cpnworldwide.com/event/september-networking-social-2/
LOCATION:Buckhead Club 3344 Peachtree St NE #2600\, Atlanta\, GA 30326\, United States\, Buckhead Club 3344 Peachtree St NE #2600\, Atlanta\, GA 30326\, United States
CATEGORIES:Event Type 1
ATTACH;FMTTYPE=image/png:https://cpnworldwide.com/wp-content/uploads/2025/04/kk.png
END:VEVENT
BEGIN:VEVENT
DTSTART;TZID=America/New_York:20250904T180000
DTEND;TZID=America/New_York:20250904T200000
DTSTAMP:20260421T170250
CREATED:20250520T211236Z
LAST-MODIFIED:20250804T193040Z
UID:1911-1757008800-1757016000@cpnworldwide.com
SUMMARY:Fashion & Friends Fundraiser
DESCRIPTION:
URL:https://cpnworldwide.com/event/fashion-friends-fundraiser/
LOCATION:Abbey Glass\, Abbey Glass Boutique\,3033 Bolling Way\, Atlanta\, GA\,\, United States
ATTACH;FMTTYPE=image/png:https://cpnworldwide.com/wp-content/uploads/2025/05/2.png
END:VEVENT
BEGIN:VEVENT
DTSTART;TZID=America/New_York:20250819T180000
DTEND;TZID=America/New_York:20250819T200000
DTSTAMP:20260421T170250
CREATED:20250411T205209Z
LAST-MODIFIED:20250819T155941Z
UID:1580-1755626400-1755633600@cpnworldwide.com
SUMMARY:August Networking Social
DESCRIPTION:
URL:https://cpnworldwide.com/event/august-networking-social-2/
LOCATION:Buckhead Club 3344 Peachtree St NE #2600\, Atlanta\, GA 30326\, United States\, Buckhead Club 3344 Peachtree St NE #2600\, Atlanta\, GA 30326\, United States
CATEGORIES:Event Type 1
ATTACH;FMTTYPE=image/png:https://cpnworldwide.com/wp-content/uploads/2025/04/Copy-of-Kwame-Johnson-1.png
END:VEVENT
BEGIN:VEVENT
DTSTART;TZID=America/New_York:20250818T170000
DTEND;TZID=America/New_York:20250818T193000
DTSTAMP:20260421T170250
CREATED:20250501T103641Z
LAST-MODIFIED:20250601T190801Z
UID:1738-1755536400-1755545400@cpnworldwide.com
SUMMARY:August Volunteer with us: Serve food with SafeHouse Outreach for those in need!
DESCRIPTION:
URL:https://cpnworldwide.com/event/august-volunteer-with-us-serve-food-with-safehouse-outreach-for-those-in-need/
LOCATION:89 Ellis Street NE\,  Atlanta\, GA 30303\, 89 Ellis Street NE\, Atlanta\, GA 30303
ATTACH;FMTTYPE=image/png:https://cpnworldwide.com/wp-content/uploads/2025/05/3-3.png
END:VEVENT
BEGIN:VEVENT
DTSTART;TZID=America/New_York:20250721T170000
DTEND;TZID=America/New_York:20250721T193000
DTSTAMP:20260421T170250
CREATED:20250501T103152Z
LAST-MODIFIED:20250601T190455Z
UID:1730-1753117200-1753126200@cpnworldwide.com
SUMMARY:July Volunteer with us: Serve food with SafeHouse Outreach for those in need!
DESCRIPTION:
URL:https://cpnworldwide.com/event/july-volunteer-with-us-serve-food-with-safehouse-outreach-for-those-in-need/
LOCATION:89 Ellis Street NE\,  Atlanta\, GA 30303\, 89 Ellis Street NE\, Atlanta\, GA 30303
ATTACH;FMTTYPE=image/png:https://cpnworldwide.com/wp-content/uploads/2025/05/2-3.png
END:VEVENT
BEGIN:VEVENT
DTSTART;TZID=America/New_York:20250715T180000
DTEND;TZID=America/New_York:20250715T200000
DTSTAMP:20260421T170250
CREATED:20250411T204539Z
LAST-MODIFIED:20250711T144451Z
UID:1572-1752602400-1752609600@cpnworldwide.com
SUMMARY:July Networking Social - Global Philanthropy: Addressing Worldwide Needs
DESCRIPTION:
URL:https://cpnworldwide.com/event/july-networking-social/
LOCATION:Buckhead Club 3344 Peachtree St NE #2600\, Atlanta\, GA 30326\, United States\, Buckhead Club 3344 Peachtree St NE #2600\, Atlanta\, GA 30326\, United States
CATEGORIES:Event Type 1
ATTACH;FMTTYPE=image/png:https://cpnworldwide.com/wp-content/uploads/2025/04/Copy-of-Kwame-Johnson.png
END:VEVENT
BEGIN:VEVENT
DTSTART;TZID=America/New_York:20250714T190000
DTEND;TZID=America/New_York:20250714T200000
DTSTAMP:20260421T170250
CREATED:20250226T220422Z
LAST-MODIFIED:20250708T140502Z
UID:1295-1752519600-1752523200@cpnworldwide.com
SUMMARY:Bible Study: The Lord’s Prayer
DESCRIPTION:
URL:https://cpnworldwide.com/event/bible-study/
LOCATION:ZOOM\, ZOOM
CATEGORIES:Event Type 1
ATTACH;FMTTYPE=image/png:https://cpnworldwide.com/wp-content/uploads/2025/02/Screenshot-2025-02-27-at-20.12.42.png
END:VEVENT
BEGIN:VEVENT
DTSTART;TZID=America/New_York:20250628T190000
DTEND;TZID=America/New_York:20250628T210000
DTSTAMP:20260421T170250
CREATED:20250512T073621Z
LAST-MODIFIED:20250626T210238Z
UID:1831-1751137200-1751144400@cpnworldwide.com
SUMMARY:Ana’s Birthday & Fundraiser
DESCRIPTION:
URL:https://cpnworldwide.com/event/anas-birthday-fundraiser/
LOCATION:Buckhead\, Buckhead
CATEGORIES:Event Type 1
ATTACH;FMTTYPE=image/png:https://cpnworldwide.com/wp-content/uploads/2025/05/Untitled-design.png
END:VEVENT
BEGIN:VEVENT
DTSTART;TZID=America/New_York:20250617T180000
DTEND;TZID=America/New_York:20250617T200000
DTSTAMP:20260421T170250
CREATED:20250316T043521Z
LAST-MODIFIED:20250610T143039Z
UID:1406-1750183200-1750190400@cpnworldwide.com
SUMMARY:June Networking Social
DESCRIPTION:
URL:https://cpnworldwide.com/event/june-networking-social/
LOCATION:Buckhead Club 3344 Peachtree St NE #2600\, Atlanta\, GA 30326\, United States\, Buckhead Club 3344 Peachtree St NE #2600\, Atlanta\, GA 30326\, United States
CATEGORIES:Event Type 1
ATTACH;FMTTYPE=image/png:https://cpnworldwide.com/wp-content/uploads/2025/03/ll.png
END:VEVENT
BEGIN:VEVENT
DTSTART;TZID=America/New_York:20250616T170000
DTEND;TZID=America/New_York:20250616T193000
DTSTAMP:20260421T170250
CREATED:20250327T180640Z
LAST-MODIFIED:20250601T190137Z
UID:1461-1750093200-1750102200@cpnworldwide.com
SUMMARY:June Volunteer with us: Serve food with SafeHouse Outreach for those in need!
DESCRIPTION:
URL:https://cpnworldwide.com/event/volunteer-with-us-serve-food-with-safehouse-outreach-for-those-in-need-4/
LOCATION:89 Ellis Street NE\,  Atlanta\, GA 30303\, 89 Ellis Street NE\, Atlanta\, GA 30303
ATTACH;FMTTYPE=image/png:https://cpnworldwide.com/wp-content/uploads/2025/05/1-4.png
END:VEVENT
BEGIN:VEVENT
DTSTART;TZID=America/New_York:20250614T120000
DTEND;TZID=America/New_York:20250614T130000
DTSTAMP:20260421T170250
CREATED:20250414T100714Z
LAST-MODIFIED:20250520T201542Z
UID:1608-1749902400-1749906000@cpnworldwide.com
SUMMARY:Brunch Networking
DESCRIPTION:
URL:https://cpnworldwide.com/event/brunch-networking-3/
LOCATION:Aviva by Kameel Buckhead\, Aviva by Kameel Buckhead\, 3330 Piedmont Rd NE suite 26\, Atlanta\, GA 30305
CATEGORIES:Event Type 1
ATTACH;FMTTYPE=image/png:https://cpnworldwide.com/wp-content/uploads/2025/04/2-1.png
END:VEVENT
END:VCALENDAR